Workbook

Sheet Índice global
B2: > RELATÓRIO DO ORÇAMENTO DO ESTADO* > ELEMENTOS INFORMATIVOS E COMPLEMENTARES* Quadros | Gráficos | Tabelas
B3: RELATÓRIO | ÍNDICE DOS QUADROS
B4: RELATÓRIO | ÍNDICE DOS GRÁFICOS
B5: RELATÓRIO | ÍNDICE DOS ANEXOS
B6: ELEMENTOS INFORMATIVOS E COMPLEMENTARES | ÍNDICE DE QUADROS GRÁFICOS E TABELAS
B8: * O presente ficheiro é uma publicação do Ministério das Finanças. Compila os quadros, gráficos e tabelas que integram o «Relatório do Orçamento do Estado para 2027», bem como os respetivos «Elementos Informativos e Complementares». Em caso de eventual inconsistência, prevalecem os valores dos documentos orçamentais originais (Articulado, Mapas Contabilísticos [Mapas da Lei], Relatório, Elementos Informativos e Complementares).
B9: outubro de 2026

Sheet Rel. OE2027 | Quadros
B4: ÍNDICE DE QUADROS DO RELATÓRIO QUE ACOMPANHA A PROPOSTA DE ORÇAMENTO DO ESTADO PARA 2027
B5: ='CAP. 2'!A5 -> 2. Economia Portuguesa: Evolução Recente e Perspetivas para 2027
B6: ='Q-2.1'!$B$9 -> Quadro 2.1. Enquadramento internacional: principais hipóteses externas
B7: ='Q-2.2'!$B$9 -> Quadro 2.2. PIB e componentes da despesa
B8: ='Q-2.3'!$B$9 -> Quadro 2.3. Cenário macroeconómico
B9: ='Q-2.4'!$B$9 -> Quadro 2.4. Previsões de outras instituições para 2026-2027
B10: ='CAP. 3'!A5 -> 3. Situação Financeira das Administrações Públicas: Contabilidade Nacional
B11: ='Q-3.1'!$B$9 -> Quadro 3.1. Conta das Administrações Públicas: 2026-2027
B12: ='Q-3.2'!$B$9 -> Quadro 3.2. Principais medidas de política orçamental com impacto em 2027
B13: ='Q-3.3'!$B$9 -> Quadro 3.3. Passagem de saldos de contabilidade pública a contabilidade nacional
B14: ='Q-3.4'!$B$9 -> Quadro 3.4. Despesa líquida e conta de controlo
B15: ='Q-3.5'!$B$9 -> Quadro 3.5. Despesa líquida e conta de controlo ajustada
B16: ='Q-3.6'!$B$9 -> Quadro 3.6. Dívida pública
B17: ='CAP. 4'!A5 -> 4. Situação Financeira das Administrações Públicas: Contabilidade Pública
B18: ='Q-4.1'!$B$9 -> Quadro 4.1. Conta das Administrações Públicas em contabilidade pública
B19: ='Q-4.2'!$B$9 -> Quadro 4.2. Conta consolidada da Administração Central: contabilidade pública
B20: ='Q-4.3'!$B$9 -> Quadro 4.3. Receita da Administração Central
B21: ='Q-4.4'!$B$9 -> Quadro 4.4. Receita fiscal do Estado
B22: ='Q-4.5'!$B$9 -> Quadro 4.5. Despesa fiscal do Estado por imposto
B23: ='Q-4.6'!$B$9 -> Quadro 4.6. Despesa fiscal do Estado por função
B24: ='Q-4.7'!$B$9 -> Quadro 4.7. Evolução da despesa efetiva consolidada da Administração Central
B25: ='Q-4.8'!$B$9 -> Quadro 4.8. Despesas com o pessoal da Administração Central
B26: ='Q-4.9'!$B$9 -> Quadro 4.9. Despesa com juros e outros encargos da Administração Central
B27: ='Q-4.10'!$B$9 -> Quadro 4.10. Despesa com transferências correntes e de capital da Administração Central
B28: ='Q-4.11'!$B$9 -> Quadro 4.11. Orçamento da Entidade Contabilística Estado
B29: ='Q-4.12'!$B$9 -> Quadro 4.12. Receitas e despesas da Administração Local
B30: ='Q-4.13'!$B$9 -> Quadro 4.13. Transferências do Orçamento do Estado para a Administração Local
B31: ='Q-4.14'!$B$9 -> Quadro 4.14. Receitas e despesas da Administração Regional
B32: ='Q-4.15'!$B$9 -> Quadro 4.15. Transferências do Orçamento do Estado para a Administração Regional
B33: ='Q-4.16'!$B$9 -> Quadro 4.16. Transferências totais para a Administração Local e Regional
B34: ='Q-4.17'!$B$9 -> Quadro 4.17. Principais receitas e despesas da Segurança Social
B35: ='Q-4.18'!$B$9 -> Quadro 4.18. Investimentos estruturantes: Administração Central e Segurança Social — Parte I
B36: ='Q-4.19'!$B$9 -> Quadro 4.19. Investimentos estruturantes: Administração Central e Segurança Social — Parte II
B37: ='Q-4.20'!$B$9 -> Quadro 4.20. Investimentos estruturantes: Administração Central e Segurança Social — Parte III
B38: ='Q-4.21'!$B$9 -> Quadro 4.21. Investimentos estruturantes: Administração Central e Segurança Social — Parte IV
B39: ='Q-4.22'!$B$9 -> Quadro 4.22. Síntese evolutiva das participações do Estado
B40: ='Q-4.23'!$B$9 -> Quadro 4.23. Dividendos pagos e/ou a pagar ao Estado / Entidade do Tesouro e Finanças pelas empresas públicas
B41: ='Q-4.24'!$B$9 -> Quadro 4.24. Fluxos financeiros entre Portugal e a União Europeia
B42: ='Q-4.25'!$B$9 -> Quadro 4.25. Previsão dos encargos plurianuais com as parcerias público-privadas
B43: ='Q-4.26'!$B$9 -> Quadro 4.26. Estrutura da dívida direta do Estado
...

Sheet Rel. OE2027 | Gráficos
B4: ÍNDICE DE GRÁFICOS DO RELATÓRIO QUE ACOMPANHA A PROPOSTA DE ORÇAMENTO DO ESTADO PARA 2027
B5: ='CAP. 2'!A5 -> 2. Economia Portuguesa: Evolução Recente e Perspetivas para 2027
B6: ='G-2.1'!$B$9 -> Gráfico 2.1. Índice de incerteza global e do comércio
B7: ='G-2.2'!$B$9 -> Gráfico 2.2. Média do Preço do Petróleo brent e do gasóleo
B8: ='G-2.3'!$B$9 -> Gráfico 2.3. PIB das principais economias mundiais
B9: ='G-2.4'!$B$9 -> Gráfico 2.4. Taxa de inflação
B10: ='G-2.5'!$B$9 -> Gráfico 2.5. Taxa de juro de curto prazo
B11: ='G-2.6'!$B$9 -> Gráfico 2.6. Yields de dívida soberana a dez anos nas economias avançadas
B12: ='G-2.7'!$B$9 -> Gráfico 2.7. PIB e componentes
B13: ='G-2.8'!$B$9 -> Gráfico 2.8. Consumo privado e componentes
B14: ='G-2.9'!$B$9 -> Gráfico 2.9. Taxa de poupança e rendimento disponível
B15: ='G-2.10'!$B$9 -> Gráfico 2.10. Formação bruta de capital fixo e componentes
B16: ='G-2.11'!$B$9 -> Gráfico 2.11. Evolução do stock de capital público
B17: ='G-2.12'!$B$9 -> Gráfico 2.12. Stock de capital público por tipo de ativo
B18: ='G-2.13'!$B$9 -> Gráfico 2.13. Evolução das exportações em termos reais
B19: ='G-2.14'!$B$9 -> Gráfico 2.14. Emprego e taxa de desemprego
B20: ='G-2.15'!$B$9 -> Gráfico 2.15. Contributos para a evolução da inflação: índice de preços no consumidor
B21: ='G-2.16'!$B$9 -> Gráfico 2.16. Inflação: índice harmonizado de preços no consumidor
B22: ='CAP. 3'!A5 -> 3. Situação Financeira das Administrações Públicas: Contabilidade Nacional
B23: ='G-3.1'!$B$9 -> Gráfico 3.1. Passagem do saldo orçamental de 2025 para o saldo de 2026
B24: ='G-3.2'!$B$9 -> Gráfico 3.2. Carga fiscal de impostos
B25: ='G-3.3'!$B$9 -> Gráfico 3.3. Despesa corrente primária sem PRR e sem medidas extraordinárias
B26: ='G-3.4'!$B$9 -> Gráfico 3.4. Investimento e despesa de capital total
B27: ='G-3.5'!$B$9 -> Gráfico 3.5. Trajetória da dívida pública
B28: ='G-3.6'!$B$9 -> Gráfico 3.6. Ratings da República
B29: ='CAP. 4'!A5 -> 4. Situação Financeira das Administrações Públicas: Contabilidade Pública
B30: ='G-4.1'!$B$9 -> Gráfico 4.1. Despesa fiscal do Estado
B31: ='G-4.2'!$B$9 -> Gráfico 4.2. Despesa fiscal do Estado por função
B32: ='G-4.3'!$B$9 -> Gráfico 4.3. Despesa fiscal do Estado por tipo
B33: ='G-4.4'!$B$9 -> Gráfico 4.4. Despesa fiscal do Estado: IRS por função
B34: ='G-4.5'!$B$9 -> Gráfico 4.5. Despesa fiscal do Estado: IRS por tipo
B35: ='G-4.6'!$B$9 -> Gráfico 4.6. Despesa fiscal do Estado: IRC por função
B36: ='G-4.7'!$B$9 -> Gráfico 4.7. Despesa fiscal do Estado: IRC por tipo
B37: ='G-4.8'!$B$9 -> Gráfico 4.8. Despesa fiscal do Estado: IVA por função
B38: ='G-4.9'!$B$9 -> Gráfico 4.9. Despesa fiscal do Estado: IVA por tipo
B39: ='G-4.10'!$B$9 -> Gráfico 4.10. Despesa fiscal do Estado: IEC e ISV por função
B40: ='G-4.11'!$B$9 -> Gráfico 4.11. Despesa fiscal do Estado: IEC e ISV por tipo
B41: ='G-4.12'!$B$9 -> Gráfico 4.12. Despesa fiscal do Estado: IS por função
B42: ='G-4.13'!$B$9 -> Gráfico 4.13. Despesa fiscal do Estado: IS por tipo
B43: ='G-4.14'!$B$9 -> Gráfico 4.14. Despesa fiscal do Estado: IUC por função
...

Sheet Rel. OE2027 | Anexos
B4: ÍNDICE DE QUADROS DOS ANEXOS DO RELATÓRIO QUE ACOMPANHA A PROPOSTA DE ORÇAMENTO DO ESTADO PARA 2027
B5: ='Q-A1.1'!$B$9 -> Quadro A1.1. Quadro de políticas invariantes
B6: ='Q-A2.1'!$B$9 -> Quadro A2.1. Contas das Administrações Públicas: ótica da contabilidade nacional
B7: ='Q-A2.2'!$B$9 -> Quadro A2.2. Contas das Administrações Públicas: variações absoluta e relativa — ótica da contabilidade nacional
B8: ='Q-A2.3'!$B$9 -> Quadro A2.3. Contas das Administrações Públicas: ótica da contabilidade pública
B9: ='Q-A2.4'!$B$9 -> Quadro A2.4. Conta das Administrações Públicas: variações absoluta e relativa — ótica da contabilidade pública
B10: ='Q-A3.1'!$B$9 -> Quadro A3.1. Alterações ao perímetro da Administração Central em 2027 (excluindo as novas entidades públicas reclassificadas)
B11: ='Q-A3.2'!$B$9 -> Quadro A3.2. Alterações ao perímetro das Entidades Públicas Reclassificadas na Administração Central em 2027
B12: ='Q-A3.3'!$B$9 -> Quadro A3.3. Entidades não incluídas no Orçamento do Estado para 2027 face à lista do Instituto Nacional de Estatística
B13: ='Q-A4.1'!$B$9 -> Quadro A4.1. Lista de entidades da Administração Central e Segurança Social
B14: ='Q-A5.1'!$B$9 -> Quadro A5.1. Transferências para entidades não integradas no setor da Administração Central
B15: ='Q-A6.1'!$B$9 -> Quadro A6.1. Fluxos para as Regiões Autónomas
B16: ='Q-A6.2'!$B$9 -> Quadro A6.2. Fluxos para a Administração Local
B17: ='Q-A7.1'!$B$9 -> Quadro A7.1. Balanço consolidado da Segurança Social: 2025
B18: ='Q-A7.2'!$B$9 -> Quadro A7.2. Demonstração dos resultados por naturezas consolidada da Segurança Social do período findo em 31 de dezembro de 2025

Sheet Elem. Inform. Comp.
B4: ELEMENTOS INFORMATIVOS E COMPLEMENTARES DO RELATÓRIO QUE ACOMPANHAM A PROPOSTA DE ORÇAMENTO DO ESTADO PARA 2027
B5: 1. Notas Metodológicas
B6: ='EIC-G-1.1'!$B$9 -> Gráfico 1.1. Diagrama de interdependência do modelo macroeconométrico
B7: ='EIC-Q-1.1'!$B$9 -> Quadro 1.1. Estrutura de referência de orçamentação verde
B8: ='EIC-G-1.2'!$B$9 -> Gráfico 1.2. Taxonomia europeia de objetivos climáticos e ambientais
B9: ='EIC | Cap. 2'!$A$5 -> 2. Relatório sobre a Sustentabilidade Financeira da Segurança Social
B10: ='EIC-G-2.1'!$B$9 -> Gráfico 2.1. Sistema Previdencial-Repartição: receitas, despesas e saldo corrente
B11: ='EIC-G-2.2'!$B$9 -> Gráfico 2.2. Sistema Previdencial-Repartição: saldo e transferências para o FEFSS
B12: ='EIC-Q-2.1'!$B$9 -> Quadro 2.1. Sistema Previdencial-Repartição: distribuição da despesa corrente
B13: ='EIC-Q-2.2'!$B$9 -> Quadro 2.2. Número de pessoas singulares com contribuições pagas à Segurança Social
B14: ='EIC-Q-2.3'!$B$9 -> Quadro 2.3. Remunerações totais declaradas médias
B15: ='EIC-Q-2.4'!$B$9 -> Quadro 2.4. Receita com contribuições e quotizações - Sistema Previdencial-Repartição
B16: ='EIC-Q-2.5'!$B$9 -> Quadro 2.5. Idade média: pessoas singulares
B17: ='EIC-G-2.3'!$B$9 -> Gráfico 2.3. Número de pessoas singulares, por sexo e escalão etário
B18: ='EIC-G-2.4'!$B$9 -> Gráfico 2.4. Remuneração média mensal declarada, por sexo e escalão etário
B19: ='EIC-G-2.5'!$B$9 -> Gráfico 2.5. Carreira contributiva média, por idade e sexo
B20: ='EIC-G-2.6'!$B$9 -> Gráfico 2.6. Remuneração média mensal declarada, por sexo e enquadramento contributivo
B21: ='EIC-G-2.7'!$B$9 -> Gráfico 2.7. Nacionalidade das pessoas singulares com contribuições
B22: ='EIC-G-2.8'!$B$9 -> Gráfico 2.8. Nacionalidade por tipo de enquadramento contributivo
B23: ='EIC-G-2.9'!$B$9 -> Gráfico 2.9. Distribuição percentual de pessoas singulares, por nacionalidade, sexo e escalão etário
B24: ='EIC-G-2.10'!$B$9 -> Gráfico 2.10. Remunerações médias mensais declaradas por nacionalidade
B25: ='EIC-Q-2.6'!$B$9 -> Quadro 2.6. Despesa do Sistema Previdencial-Repartição: pensões, prestações e outros
B26: ='EIC-Q-2.7'!$B$9 -> Quadro 2.7. Número de pensões de velhice, invalidez e sobrevivência
B27: ='EIC-Q-2.8'!$B$9 -> Quadro 2.8. Despesa com pensões de velhice - Sistema Previdencial-Repartição
B28: ='EIC-Q-2.9'!$B$9 -> Quadro 2.9. Número de pensões de velhice
B29: ='EIC-G-2.11'!$B$9 -> Gráfico 2.11. Pensões de velhice, por sexo e escalão etário
B30: ='EIC-Q-2.10'!$B$9 -> Quadro 2.10. Valor médio da pensão de velhice
B31: ='EIC-Q-2.11'!$B$9 -> Quadro 2.11. Valor médio da pensão estatutária de velhice
B32: ='EIC-G-2.12'!$B$9 -> Gráfico 2.12. Valor médio da pensão estatutária de velhice, por sexo e escalão etário
B33: ='EIC-G-2.13'!$B$9 -> Gráfico 2.13. Valor médio da pensão de velhice, por sexo e escalão etário
B34: ='EIC-G-2.14'!$B$9 -> Gráfico 2.14. Carreira contributiva média dos pensionistas de velhice, por sexo e escalão etário
B35: ='EIC-Q-2.12'!$B$9 -> Quadro 2.12. Número de pensões de velhice por escalões do valor de pensão
B36: ='EIC-G-2.15'!$B$9 -> Gráfico 2.15. Pensões de velhice, por escalão etário e escalão do valor
B37: ='EIC-G-2.16'!$B$9 -> Gráfico 2.16. Novas pensões de velhice, por escalão etário e escalão do valor
B38: ='EIC-Q-2.13'!$B$9 -> Quadro 2.13. Número de novas pensões de velhice por escalões do valor de pensão
B39: ='EIC-Q-2.14'!$B$9 -> Quadro 2.14. Idade média dos pensionistas de velhice
B40: ='EIC-Q-2.15'!$B$9 -> Quadro 2.15. Carreira contributiva média dos pensionistas de velhice
B41: ='EIC-Q-2.16'!$B$9 -> Quadro 2.16. Despesa com pensões de invalidez
B42: ='EIC-Q-2.17'!$B$9 -> Quadro 2.17. Número de pensões de invalidez
B43: ='EIC-Q-2.18'!$B$9 -> Quadro 2.18. Valor médio da pensão de invalidez
...

Sheet CAP. 2
A5: 2. Economia Portuguesa: Evolução Recente e Perspetivas para 2027

Sheet G-2.1
B9: Gráfico 2.1. Índice de incerteza global e do comércio
B10: (índice)
B27: Fonte: World Uncertainty Index.

Sheet G-2.2
B9: Gráfico 2.2. Média do Preço do Petróleo brent e do gasóleo
B10: (valores médios mensais)
B27: Fonte: Investing.com; MarketWatch.com.

Sheet G-2.3
B9: Gráfico 2.3. PIB das principais economias mundiais
B10: (taxa de variação homóloga, percentagem)
B27: Fontes: Organização para a Cooperação e Desenvolvimento Económico; Eurostat; Bureau of Economic Analysis.

Sheet G-2.4
B9: Gráfico 2.4. Taxa de inflação
B10: (taxa de variação homóloga, percentagem)
B28: Fontes: Eurostat; Organização para a Cooperação e Desenvolvimento Económico.

Sheet G-2.5
B9: Gráfico 2.5. Taxa de juro de curto prazo
B10: (média mensal, percentagem)
B28: Fonte: Banco Central Europeu — área do euro; Secured overnight financing rate — EUA.

Sheet G-2.6
B9: Gráfico 2.6. Yields de dívida soberana a dez anos nas economias avançadas
B10: (média mensal, percentagem)
B27: Fontes: Banco Central Europeu.

Sheet Q-2.1
B9: Quadro 2.1. Enquadramento internacional: principais hipóteses externas
C11: Fontes | D11: 2025 | E11: 2026 | F11: 2027
B12: Euribor a 3 meses (média anual, %) | C12: BCE | D12: 2.2 | E12: 2.4 | F12: 2.8
B13: Taxas de juro de longo prazo da área do euro, (%) | C13: BCE | D13: 3.1 | E13: 3.4 | F13: 3.7
B14: Euribor a 3 meses (média anual, %) | C14: Cálculos MF com base em dados IGCP | D14: 2.1790083 | E14: 2.4608333 | F14: 3.4160833
B15: Taxas de juro de longo prazo da área do euro, (%) | C15: BCE | D15: 3.0722266 | E15: 3.5 | F15: 3.8
B16: Taxa de câmbio (USD/EUR) (média anual) | C16: Cálculos MF com base em dados CME Group | D16: 1.1293425 | E16: 1.1606515 | F16: 1.166575
B17: Preço do petróleo Brent (USD/bbl) | C17: Cálculos MF com base em dados CME Group | D17: 68.073027 | E17: 92.613193 | F17: 86.056667
B18: Preço do petróleo Brent (Eur/bbl) | C18: Cálculos MF com base em dados CME Group | D18: 60.27669 | E18: 79.794144 | F18: 73.768653
B19: Procura externa (taxa de variação homóloga) | C19: BCE | D19: 4.5341848 | E19: 2.7 | F19: 3.2068151
B20: Notas: As hipóteses para o preço do petróleo baseiam-se nos futuros do dia 15 de setembro de 2026 e as hipóteses para a Euribor nas expetativas de mercado a 16 de setembro. As hipóteses para a taxa de juro de longo prazo são as subjacentes ao exercício de projeção do Eurosistema de setembro de 2026. Fontes: Ministério das Finanças; CME Group; Banco Central Europeu.

Sheet Q-2.2
B9: Quadro 2.2. PIB e componentes da despesa
B10: (percentagem, pontos percentuais)
C11: variação homóloga | H11: variação em cadeia | M11: variação anual
C12: 2025 | E12: 2026 | H12: 2025 | J12: 2026
C13: 3.º T | D13: 4.º T | E13: 1.º T | F13: 2.º T | H13: 3.º T | I13: 4.º T | J13: 1.º T | K13: 2.º T | M13: 2025
B14: PIB e componentes da despesa
B15: PIB | C15: 2.0576402 | D15: 1.8848594 | E15: 2.358552 | F15: 2.6358328 | H15: 0.46093196 | I15: 0.96602601 | J15: 0.24680767 | K15: 0.93830173 | M15: 1.8839703
B16: Consumo privado | C16: 4.2926458 | D16: 2.8650872 | E16: 3.3876427 | F16: 3.7587089 | H16: 1.4771106 | I16: 0.77981959 | J16: 0.56898562 | K16: 0.88319312 | M16: 3.7092817
B17: Bens alimentares | C17: 2.437291 | D17: 2.5470955 | E17: 2.4905526 | F17: 1.5509206 | H17: 0.28599903 | I17: 0.68913831 | J17: 0.066800025 | K17: 0.50112507 | M17: 2.3059745
B18: Bens duradouros | C18: 10.154276 | D18: 5.7861375 | E18: 6.3162029 | F18: 9.8443536 | H18: 3.2786503 | I18: 0.949239 | J18: 0.96517803 | K18: 4.3500158 | M18: 8.6015435
B19: Bens correntes n/ alim. e serviços | C19: 4.0615357 | D19: 2.5608602 | E19: 3.2412316 | F19: 3.5228811 | H19: 1.5724374 | I19: 0.78241365 | J19: 0.63154189 | K19: 0.49433805 | M19: 3.4533628
B20: Consumo público | C20: 2.0719279 | D20: 1.9699537 | E20: 1.8926416 | F20: 1.7217042 | H20: 0.48573432 | I20: 0.39129344 | J20: 0.46666024 | K20: 0.3670598 | M20: 2.0737133
B21: Investimento (FBCF) | C21: 3.3719052 | D21: 6.9094289 | E21: 11.434053 | F21: 6.379288 | H21: 3.4883223 | I21: 2.93178 | J21: 2.2945668 | K21: -2.3744075 | M21: 4.3042099
B22: Outras máquinas e equipamentos | C22: -7.9769211 | D22: 13.872612 | E22: 28.194024 | F22: 11.293837 | H22: 3.2792243 | I22: 15.445829 | J22: 6.9208588 | K22: -12.699353 | M22: 3.0013007
B23: Equipamento de transporte | C23: 12.950442 | D23: -3.6347944 | E23: 21.51664 | F23: 22.161789 | H23: 21.632339 | I23: -15.752989 | J23: 11.960634 | K23: 6.4796153 | M23: -0.93974233
B24: Construção | C24: 6.7825963 | D24: 5.5782996 | E24: 4.3756036 | F24: 1.7437482 | H24: 1.6688913 | I24: 1.0324187 | J24: -1.158787 | K24: 0.21225358 | M24: 5.3939955
B25: Exportações de bens e serviços | C25: 0.5074308 | D25: -0.57553407 | E25: 1.8950409 | F25: 4.6366058 | H25: 0.91750472 | I25: -0.50814733 | J25: 2.2998538 | K25: 1.8719474 | M25: 0.047130763
B26: Bens | C26: 0.20451238 | D26: -0.22207569 | E26: 2.946194 | F26: 4.5649313 | H26: 0.76725349 | I26: -0.56678149 | J26: 3.1503973 | K26: 1.172908 | M26: -0.26843631
... B29: PIB da área do euro | C29: 1.1678886 | D29: 1.0724056 | E29: 0.56926601 | F29: 1.171654 | H29: 0.31137545 | I29: 0.23308629 | J29: -0.0098625692 | K29: 0.63299461 | M29: 1.3082068
B30: Contributos para o crescimento real do PIB (p.p.)
B31: Procura interna | C31: 3.9008019 | D31: 3.6261903 | E31: 4.82092 | F31: 3.7737849 | H31: 1.6211601 | I31: 0.24193329 | J31: 1.9053198 | K31: -0.022635653 | M31: 4
B32: Procura externa líquida | C32: -1.8447816 | D32: -1.7447762 | E32: -2.4627899 | F32: -1.1384435 | H32: -1.1613362 | I32: 0.72289548 | J32: -1.6558255 | K32: 0.96004668 | M32: -2.1082705
B33: Fontes: Instituto Nacional de Estatística; Eurostat.

Sheet G-2.7
B9: Gráfico 2.7. PIB e componentes
B10: (taxa de variação homóloga, percentagem, pontos percentuais)
B28: Fonte: Instituto Nacional de Estatística.

Sheet G-2.8
B9: Gráfico 2.8. Consumo privado e componentes
B10: (taxa de variação homóloga, percentagem, pontos percentuais)
B29: Fonte: Instituto Nacional de Estatística.

Sheet Q-2.3
B9: Quadro 2.3. Cenário macroeconómico
B10: (percentagem, pontos percentuais)
C11: 2025 | D11: 2026(e) | E11: 2027(p)
C12: INE | D12: MF - OE2027
B13: PIB e componentes da despesa (taxa de crescimento real, %)
B14: PIB | C14: 1.8839703 | D14: 2.323469 | E14: 2.077393
B15: Consumo privado | C15: 3.7092817 | D15: 3.0944029 | E15: 2.0846155
B16: Consumo público | C16: 2.0737133 | D16: 1.7499373 | E16: 1.1854922
B17: Investimento (FBCF) | C17: 4.3042099 | D17: 5.6964801 | E17: 2.009946
B18: Exportações de bens e serviços | C18: 0.047130763 | D18: 3.4726593 | E18: 3.0728152
B19: Importações de bens e serviços | C19: 4.5915872 | D19: 6.0071436 | E19: 2.8083223
B20: Contributos para o crescimento do PIB (p.p.)
B21: Procura interna | C21: 3.9918783 | D21: 3.4763567 | E21: 2.1
B22: Procura externa líquida | C22: -2.107908 | D22: -1.1528878 | E22: 0.1
B23: Evolução dos preços (taxa de variação, %)
B24: Deflator do PIB | C24: 4.011684 | D24: 3.0966426 | E24: 2.4695796
B25: IHPC | C25: 2.194661 | D25: 2.886576 | E25: 2.27776
B26: Evolução do mercado de trabalho (taxa de variação, %)
B27: Emprego (ótica de Contas Nacionais) | C27: 2.3078988 | D27: 1.7327774 | E27: 1.4151977
B28: Taxa de desemprego (% da população ativa) | C28: 6.005479 | D28: 5.7910059 | E28: 5.7077768
B29: Produtividade aparente do trabalho | C29: -0.41436544 | D29: 0.58063049 | E29: 0.65295469
B30: Remunerações por trabalhador | C30: 4.8092061 | D30: 4.7304309 | E30: 4.5396303
B31: Saldo das balanças corrente e de capital (em % do PIB)
B32: Capacidade/necessidade líquida de financiamento face ao exterior | C32: 2.524913 | D32: 1.5863338 | E32: 1.248064
B33: Saldo da balança corrente | C33: 0.99211853 | D33: -0.25981555 | E33: -0.37693203
B34: do qual: saldo da balança de bens e serviços | C34: 0.74060189 | D34: -0.73528956 | E34: -0.55766871
B35: Saldo da balança de capital | C35: 1.5327945 | D35: 1.8461494 | E35: 1.6249961
B36: Nota: (e) estimativa; (p) previsão. Fontes: Instituto Nacional de Estatística; Ministério das Finanças.

Sheet G-2.9
B9: Gráfico 2.9. Taxa de poupança e rendimento disponível
B10: (percentagem)
B28: Fonte: Instituto Nacional de Estatística.

Sheet G-2.10
B9: Gráfico 2.10. Formação bruta de capital fixo e componentes
B10: (percentagem, pontos percentuais)
B28: Fonte: Instituto Nacional de Estatística.

Sheet G-2.11
B9: Gráfico 2.11. Evolução do stock de capital público
B10: (percentagem do PIB, preços constantes)
B27: Nota: e – estimado, p – projetado. Fonte: Instituto Nacional de Estatística e cálculos do Gabinete de Planeamento, Estudos, Avaliação e Relações Internacionais

Sheet G-2.12
B9: Gráfico 2.12. Stock de capital público por tipo de ativo
B10: (percentagem do PIB, preços constantes)
B31: Nota: e — estimado, p — projetado. Fontes: Instituto Nacional de Estatística e cálculos do Gabinete de Planeamento, Estudos, Avaliação e Relações Internacionais.

Sheet G-2.13
B9: Gráfico 2.13. Evolução das exportações em termos reais
B10: (percentagem, pontos percentuais)
B28: Fonte: Instituto Nacional de Estatística.

Sheet G-2.14
B9: Gráfico 2.14. Emprego e taxa de desemprego
B10: (nível em milhares e percentagem)
B29: Fonte: Instituto Nacional de Estatística.

Sheet G-2.15
B9: Gráfico 2.15. Contributos para a evolução da inflação: índice de preços no consumidor
B10: (percentagem, pontos percentuais)
B27: Fonte: Instituto Nacional de Estatística.

Sheet G-2.16
B9: Gráfico 2.16. Inflação: índice harmonizado de preços no consumidor
B10: (taxa de variação homóloga, percentagem)
B28: Fonte: Eurostat.

Sheet Q-2.4
B9: Quadro 2.4. Previsões de outras instituições para 2026-2027
B10: (percentagem, pontos percentuais)
C11: 2026(e) | J11: 2027(p)
C12: MF | D12: BdP | E12: CFP | F12: OCDE | G12: FMI | H12: CE | J12: MF | K12: BdP | L12: CFP | M12: OCDE | N12: FMI | O12: CE
B13: PIB e componentes da despesa (taxa de crescimento real, %)
B14: PIB | C14: 2.3 | D14: 2.3 | E14: 2.2 | F14: 1.8 | G14: 1.7 | H14: 1.7 | J14: 2.1 | K14: 1.8 | L14: 1.8 | M14: 1.7 | N14: 1.6 | O14: 1.8
B15: Consumo privado | C15: 3.1 | D15: 3.1 | E15: 3.2 | F15: 1.9 | G15: 1.8 | H15: 1.9 | J15: 2.1 | K15: 1.5 | L15: 2.4 | M15: 1.9 | N15: 2.1 | O15: 2.3
B16: Consumo público | C16: 1.7 | D16: 1.8 | E16: 1.7 | F16: 1.4 | G16: 2 | H16: 2.1 | J16: 1.2 | K16: 0.9 | L16: 0.7 | M16: 0.8 | N16: 0 | O16: 1.1
B17: Investimento (FBCF) | C17: 5.7 | D17: 5.6 | E17: 5.9 | F17: 5.2 | G17: 8.1 | H17: 3.9 | J17: 2 | K17: 2.2 | L17: 1.5 | M17: 1.7 | N17: -2.5 | O17: 1.6
B18: Exportações de bens e serviços | C18: 3.5 | D18: 3.5 | E18: 3.6 | F18: 0.8 | G18: 1 | H18: 0.6 | J18: 3.1 | K18: 3 | L18: 2.5 | M18: 2.4 | N18: 3.8 | O18: 2.2
B19: Importações de bens e serviços | C19: 6 | D19: 6 | E19: 6.5 | F19: 2.1 | G19: 4 | H19: 2 | J19: 2.8 | K19: 2.2 | L19: 2.4 | M19: 2.4 | N19: 2 | O19: 2.5
B20: Contributos para o crescimento do PIB (p.p.)
B21: Procura interna | C21: 3.5 | D21: - | E21: 3.6 | F21: 2.3 | G21: 3.2 | H21: 2.3 | J21: 2 | K21: - | L21: 1.9 | M21: 1.7 | N21: 0.8 | O21: 1.9
B22: Procura externa líquida | C22: -1.2 | D22: - | E22: -1.5 | F22: -0.5 | G22: -1.5 | H22: -0.6 | J22: 0 | K22: - | L22: 0 | M22: 0 | N22: 0.8 | O22: -0.1
B23: Evolução dos preços (taxa de variação, %)
B24: Deflator do PIB | C24: 3.1 | D24: 3.6 | E24: 3.1 | F24: 2.9 | G24: 3.2 | H24: 2.8 | J24: 2.5 | K24: 3.1 | L24: 2.8 | M24: 2.8 | N24: 2.3 | O24: 2.6
B25: Taxa de inflação (IHPC) | C25: 2.9 | D25: 3.1 | E25: 3.2 | F25: 3.2 | G25: 3.4 | H25: 3 | J25: 2.3 | K25: 2.4 | L25: 2.6 | M25: 2.5 | N25: 2.3 | O25: 2.3
B26: Evolução do mercado de trabalho (taxa de variação, %)
B27: Emprego (ótica de Contas Nacionais) | C27: 1.7 | D27: 1.7 | E27: 1.7 | F27: 1.1 | G27: 1.7 | H27: 1.1 | J27: 1.4 | K27: 0.7 | L27: 1.1 | M27: 0.4 | N27: 1.3 | O27: 0.9
B28: Taxa de desemprego (% da população ativa) | C28: 5.8 | D28: 5.6 | E28: 5.9 | F28: 5.8 | G28: 5.9 | H28: 5.7 | J28: 5.7 | K28: 5.6 | L28: 5.8 | M28: 5.8 | N28: 5.9 | O28: 5.7
B29: Produtividade aparente do trabalho | C29: 0.6 | D29: - | E29: 0.5 | F29: 0.7 | G29: - | H29: 0.6 | J29: 0.7 | K29: - | L29: 0.8 | M29: 1.3 | N29: - | O29: 0.9
B30: Remunerações por trabalhador | C30: 4.7 | D30: - | E30: 4.9 | F30: 4.2 | G30: - | H30: 4.4 | J30: 4.5 | K30: - | L30: 3.9 | M30: 4 | N30: - | O30: 3.7
B31: Saldo das balanças corrente e de capital (em % do PIB)
B32: Capacidade/necessidade líquida de financiamento face ao exterior | C32: 1.6 | D32: 2.5 | E32: 1.9 | F32: - | G32: 2.7 | H32: 2 | J32: 1.3 | K32: 0.9 | L32: 1.6 | M32: - | N32: 2.1 | O32: 1.5
B33: Saldo da balança corrente | C33: -0.3 | D33: - | E33: -0.1 | F33: -0.1 | G33: 0.1 | H33: 0.1 | J33: -0.3 | K33: - | L33: -0.4 | M33: 0.4 | N33: 0.5 | O33: 0.2
B34: do qual: saldo da balança de bens e serviços | C34: -0.7 | D34: -0.4 | E34: -0.7 | F34: 0 | G34: -0.4 | H34: 0 | J34: -0.6 | K34: 0.2 | L34: -0.6 | M34: 0.2 | N34: 0.7 | O34: 0.3
B35: Saldo da balança de capital | C35: 1.8 | D35: - | E35: 1.9 | F35: - | G35: 2.6 | H35: 1.9 | J35: 1.6 | K35: - | L35: 2 | M35: - | N35: 1.6 | O35: 1.2
B36: Nota: e — estimativa; p — previsão. Fontes: Ministério das Finanças (MF) — Orçamento do Estado para 2027; Banco de Portugal (BdP) — Boletim Económico, 15 de junho de 2026; Conselho das Finanças Públicas (CFP) — Perspetivas Económicas e Orçamentais 2026-2030 (Atualização), 24 de setembro de 2026; Comissão Europeia (CE) — European Economic Forecast: Spring 2026, 21 de maio de 2026; Fundo Monetário Internacional (FMI) — Article IV Consultation, 24 de junho de 2026; Organização para a Cooperação e Desenvolvimento Económico (OCDE) — Economic Outlook, 3 de junho de 2026.

Sheet CAP. 3
A5: 3. Situação Financeira das Administrações Públicas: Contabilidade Nacional

Sheet G-3.1
B9: Gráfico 3.1. Passagem do saldo orçamental de 2025 para o saldo de 2026
B10: (pontos percentuais do PIB)
B30: Nota: um ajustamento positivo (negativo) melhora (agrava) o saldo orçamental das Administrações Públicas. Fontes: Instituto Nacional de Estatística e Ministério das Finanças.

Sheet Q-3.1
B9: Quadro 3.1. Conta das Administrações Públicas: 2026-2027
B10: (milhões de euros; percentagem do PIB)
C11: 2025 | D11: 2026 | E11: 2027 Orçamento | F11: 2025 | G11: 2026 | H11: 2027 Orçamento | I11: 2027/2026
C12: milhões de euros | F12: % do PIB | I12: tvh (%)
B13: Receita corrente | C13: 128849 | D13: 138620 | E13: 140879 | F13: 41.8 | G13: 42.6 | H13: 41.4 | I13: 1.6
B14: Receita fiscal | C14: 75314 | D14: 78322 | E14: 80886 | F14: 24.4 | G14: 24.1 | H14: 23.8 | I14: 3.3
B15: Impostos s/ produção e importação | C15: 44510 | D15: 46746 | E15: 48667 | F15: 14.4 | G15: 14.4 | H15: 14.3 | I15: 4.1
B16: Impostos correntes s/ rendimento, património | C16: 30804 | D16: 31576 | E16: 32219 | F16: 10 | G16: 9.7 | H16: 9.5 | I16: 2
B17: Contribuições sociais | C17: 38745 | D17: 41815 | E17: 44636 | F17: 12.6 | G17: 12.8 | H17: 13.1 | I17: 6.7
B18: das quais: efetivas | C18: 33045 | D18: 35721 | E18: 38258 | F18: 10.7 | G18: 11 | H18: 11.2 | I18: 7.1
B19: Vendas | C19: 8761 | D19: 8940 | E19: 9127 | F19: 2.8 | G19: 2.7 | H19: 2.7 | I19: 2.1
B20: Outra receita corrente | C20: 6029 | D20: 9543 | E20: 6230 | F20: 2 | G20: 2.9 | H20: 1.8 | I20: -34.7
B21: PRR | C21: 603 | D21: 3441 | E21: 0 | F21: 0.2 | G21: 1.1 | H21: 0 | I21: -
B22: sem PRR | C22: 5426 | D22: 6102 | E22: 6230 | F22: 1.8 | G22: 1.9 | H22: 1.8 | I22: 2.1
B23: Receita de capital | C23: 3845 | D23: 7939 | E23: 2477 | F23: 1.2 | G23: 2.4 | H23: 0.7 | I23: -68.8
B24: PRR | C24: 2562 | D24: 5636 | E24: 0 | F24: 0.8 | G24: 1.7 | H24: 0 | I24: -
B25: sem PRR | C25: 1283 | D25: 2303 | E25: 2477 | F25: 0.4 | G25: 0.7 | H25: 0.7 | I25: 7.6
B26: Receita total | C26: 132694 | D26: 146559 | E26: 143356 | F26: 43 | G26: 45 | H26: 42.1 | I26: -2.2
B27: PRR | C27: 3165 | D27: 9077 | E27: 0 | F27: 1 | G27: 2.8 | H27: 0
B28: sem PRR | C28: 129529 | D28: 137481 | E28: 143356 | F28: 42 | G28: 42.2 | H28: 42.1 | I28: 4.3
B29: Despesa corrente | C29: 118843 | D29: 129047 | E29: 132435 | F29: 38.5 | G29: 39.6 | H29: 38.9 | I29: 2.6
B30: Consumo intermédio | C30: 15408 | D30: 17440 | E30: 16744 | F30: 5 | G30: 5.4 | H30: 4.9 | I30: -4
B31: PRR | C31: 235 | D31: 1432 | E31: 0 | F31: 0.1 | G31: 0.4 | H31: 0 | I31: -
B32: sem PRR | C32: 15173 | D32: 16008 | E32: 16744 | F32: 4.9 | G32: 4.9 | H32: 4.9 | I32: 4.6
B33: Despesas com pessoal | C33: 32631 | D33: 34171 | E33: 35983 | F33: 10.6 | G33: 10.5 | H33: 10.6 | I33: 5.3
B34: PRR | C34: 69 | D34: 58 | E34: 0 | F34: 0 | G34: 0 | H34: 0 | I34: -
B35: sem PRR | C35: 32562 | D35: 34114 | E35: 35983 | F35: 10.6 | G35: 10.5 | H35: 10.6 | I35: 5.5
B36: Prestações sociais | C36: 55011 | D36: 57801 | E36: 59991 | F36: 17.8 | G36: 17.8 | H36: 17.6 | I36: 3.8
B37: em dinheiro | C37: 49064 | D37: 51456 | E37: 53455 | F37: 15.9 | G37: 15.8 | H37: 15.7 | I37: 3.9
B38: PRR | C38: 44 | D38: 53 | E38: 0 | F38: 0 | G38: 0 | H38: 0 | I38: -
B39: sem PRR | C39: 49020 | D39: 51403 | E39: 53455 | F39: 15.9 | G39: 15.8 | H39: 15.7 | I39: 4
B40: em espécie | C40: 5947 | D40: 6344 | E40: 6536 | F40: 1.9 | G40: 1.9 | H40: 1.9 | I40: 3
B41: Juros | C41: 6028 | D41: 6669 | E41: 8217 | F41: 2 | G41: 2 | H41: 2.4 | I41: 23.2
B42: Subsídios | C42: 1788 | D42: 2222 | E42: 1936 | F42: 0.6 | G42: 0.7 | H42: 0.6 | I42: -12.9
B43: PRR | C43: 66 | D43: 34 | E43: 0 | F43: 0 | G43: 0 | H43: 0 | I43: -
B44: sem PRR | C44: 1723 | D44: 2188 | E44: 1936 | F44: 0.6 | G44: 0.7 | H44: 0.6 | I44: -11.5
B45: Outra despesa corrente | C45: 7976 | D45: 10744 | E45: 9564 | F45: 2.6 | G45: 3.3 | H45: 2.8 | I45: -11
B46: PRR | C46: 237 | D46: 1944 | E46: 0 | F46: 0.1 | G46: 0.6 | H46: 0 | I46: -
B47: sem PRR | C47: 7739 | D47: 8800 | E47: 9564 | F47: 2.5 | G47: 2.7 | H47: 2.8 | I47: 8.7
B48: Despesa de capital | C48: 11805 | D48: 17425 | E48: 10646 | F48: 3.8 | G48: 5.4 | H48: 3.1 | I48: -38.9
...

Sheet G-3.2
B9: Gráfico 3.2. Carga fiscal de impostos
B10: (percentagem do PIB)
B30: Fonte: Ministério das Finanças.

Sheet G-3.3
B9: Gráfico 3.3. Despesa corrente primária sem PRR e sem medidas extraordinárias
B10: (em percentagem do PIB, taxa de variação)
B30: Fonte: Ministério das Finanças.

Sheet G-3.4
B9: Gráfico 3.4. Investimento e despesa de capital total
B10: (em percentagem do PIB)
B30: Fonte: Ministério das Finanças.

Sheet Q-3.2
B9: Quadro 3.2. Principais medidas de política orçamental com impacto em 2027
B10: (milhões de euros)
C11: Impacto incremental em 2027
B12: Medidas receita | C12: -84.078342
B13: IVA | C13: 206
B14: Habitação - redução IVA construção de 23% para 6% (i) | C14: -94
B15: Combate à fraude no setor dos combustíveis | C15: 300
B16: IRS | C16: -476.79543
B17: Habitação - redução IRS rendas moderadas de 25% para 10% (i) | C17: -209.18312
B18: Atualização dedução específica e escalões (i) | C18: -431.41432
B19: Receita decorrente do aumento de salários (i) | C19: 284.32712
B20: Atualização do limite do mínimo de existência | C20: -120.52512
B21: IRC | C21: -175.8
B22: Redução taxa em 1 p.p. (i) | C22: -300
B23: SIFIDE indireto (reversão) (i) | C23: 124.2
... B33: Impacto no saldo | C33: -1131.8354
B34: Nota: (i) invariante. Fonte: Ministério das Finanças.

Sheet Q-3.3
B9: Quadro 3.3. Passagem de saldos de contabilidade pública a contabilidade nacional
B10: (milhões de euros; percentagem do PIB)
C11: 2026 | D11: 2027 Orçamento | E11: 2026 | F11: 2027 Orçamento
C12: milhões de euros | D12: 0 | E12: % do PIB
B13: 1. Saldo das AP em contabilidade pública | C13: 170.63719 | D13: -401.1605 | E13: 0.052423862 | F13: -0.11780147
B14: Administração Central | C14: -8988.3066 | D14: -9815.322 | E14: -2.7614247 | F14: -2.8822862
B15: Administração Regional e Local | C15: 1396.0889 | D15: 1031.5066 | E15: 0.4289122 | F15: 0.3029037
B16: Segurança Social | C16: 7762.8549 | D16: 8382.6548 | E16: 2.3849363 | F16: 2.461581
B17: 2. Ajustamentos em Contas Nacionais | C17: -84.183695 | D17: 675.84301 | E17: -0.025863262 | F17: 0.19846246
B18: Impostos e contribuições | C18: 397.9821 | D18: 414.77 | E18: 0.1222697 | F18: 0.12179792
B19: Garantias | C19: -100.78933 | D19: -12.34734 | E19: -0.030964914 | F19: -0.0036258176
B20: Fundos de Pensões | C20: 310.45945 | D20: 346.7195 | E20: 0.095380634 | F20: 0.10181478
B21: Diferença entre juros pagos e devidos do Estado | C21: -130 | D21: -511 | E21: -0.039939137 | F21: -0.15005603
B22: SNS e CGA | C22: -334.78455 | D22: -27.425213 | E22: -0.10285389 | F22: -0.008053461
B23: Entidades Públicas Reclassificadas | C23: 3780.816 | D23: 3073.282 | E23: 1.1615579 | F23: 0.90247453
B24: Injeções de capital e empréstimos | C24: -3812.3997 | D24: -2969.8811 | E24: -1.1712612 | F24: -0.87211069
... B30: Segurança Social | C30: 8148.7515 | D30: 8905.0074 | E30: 2.5034931 | F30: 2.6149707
B31: Fonte: Ministério das Finanças.

Sheet Q-3.4
B9: Quadro 3.4. Despesa líquida e conta de controlo
B10: (percentagem e pontos percentuais do PIB)
B11: Cálculo da despesa líquida | C11: 2023 | D11: 2024 | E11: 2025 | F11: 2026 | G11: 2027
B12: Despesa líquida observada (mil milhões de euros)
B13: 1. Despesa total | C13: 113.64089 | D13: 122.72668 | E13: 130.64837 | F13: 146.47233 | G13: 143.08017
B14: 2. Despesa com juros | C14: 5.553291 | D14: 5.983387 | E14: 6.028165 | F14: 6.669165 | G14: 8.217165
B15: 3. Despesa cíclica com subsídio de desemprego | C15: 0.13025353 | D15: 0.16433846 | E15: 0.092765345 | F15: 0.04814374 | G15: 0.018251537
B16: 4. Despesa financiada por fundos da União Europeia | C16: 3.289322 | D16: 3.640641 | E16: 4.772875 | F16: 12.216338 | G16: 4.38
B17: 5. Despesa nacional em programas cofinanciados | C17: 0.79067354 | D17: 0.46431391 | E17: 0.62879815 | F17: 1.472148 | G17: 2.3509548
B18: 6. Medidas pontuais ou temporárias na despesa | C18: 1.143532 | D18: 0 | E18: 0.217564 | F18: 1.5705 | G18: 0.68560903
B19: 7. Despesa líquida (antes de MDR) [=1-2-3-4-5-6] | C19: 102.73382 | D19: 112.474 | E19: 118.90821 | F19: 124.49604 | G19: 127.42819
B20: 8. Variação da despesa líquida (antes de MDR) [Δ7] | D20: 9.7401847 | E20: 6.4342069 | F20: 5.5878298 | G20: 2.9321543
B21: 9. MDR (impacto incremental) | D21: -2.0002019 | E21: -0.17006208 | F21: -1.2320836 | G21: -0.12738312
B22: 10. Variação anual da despesa líquida (após MDR) [8-9] | D22: 11.740387 | E22: 6.6042689 | F22: 6.8199135 | G22: 3.0595374
B23: Desvios anual e acumulado (Δ%)
B24: 11. Crescimento da despesa líquida observada [10(t) / 7(t-1)] | D24: 11.427967 | E24: 5.8718183 | F24: 5.7354438 | G24: 2.457538
B25: 12. Trajetória da despesa líquida recomendada | D25: 11.8 | E25: 5 | F25: 5.1 | G25: 1.2
B26: Desvios anual e acumulado (mil milhões de euros)
B27: 13. Desvio anual [(11-12) x 7(t-1)] | D27: -0.3822037 | E27: 0.98056891 | F27: 0.75559487 | G27: 1.5655849
B28: 14. Desvio acumulado | D28: -0.3822037 | E28: 0.59836521 | F28: 1.3539601 | G28: 2.919545
B29: 15. PIB nominal | C29: 270.35262 | D29: 291.15282 | E29: 308.53823 | F29: 325.49527 | G29: 340.53947
B31: Conta de controlo (% do PIB) | C31: 2023 | D31: 2024 | E31: 2025 | F31: 2026 | G31: 2027
B32: 16. Saldo anual [13/15] | D32: -0.13127254 | E32: 0.31781115 | F32: 0.23213698 | G32: 0.4597367
B33: 17. Saldo acumulado [14/15] | D33: -0.13127254 | E33: 0.19393552 | F33: 0.41596921 | G33: 0.85732941
B34: Conta de controlo aumentada
B35: 21. Despesa em Defesa (COFOG) | C35: 0.73730746 | D35: 0.87617321 | E35: 0.83732432 | F35: 1.0144541 | G35: 1.1749493
B36: 22. Flexibilidade decorrente de maior despesa em Defesa | E36: 0.013629849 | F36: 0.19075961 | G36: 0.35125481
B37: 23. Desvio acumulado após flexibilidade Defesa [17-22] | E37: 0.18030567 | F37: 0.2252096 | G37: 0.5060746
B38: 24. Medidas segurança energética | F38: 0.025 | G38: 0.0006
B39: 25. Desvio acumulado após flexibilidade global [23-24] | E39: 0.18030567 | F39: 0.2002096 | G39: 0.5054746
B40: Fonte: Ministério das Finanças.

Sheet Q-3.5
B9: Quadro 3.5. Despesa líquida e conta de controlo ajustada
C11: 2024 | D11: 2025 | E11: 2026 | F11: 2027
B12: Trajetória da despesa líquida recomendada (Δ%) | C12: 11.8 | D12: 5 | E12: 5.1 | F12: 1.2
B13: Crescimento da despesa líquida observada sem MDR (Δ%) | C13: 9.4809918 | D13: 5.7206171 | E13: 4.6992802 | F13: 2.3552189
B14: Saldo anual (% do PIB) | C14: -0.81826637 | D14: 0.26269251 | E14: -0.14638884 | F14: 0.42233043
B15: Saldo acumulado (% do PIB) | C15: -0.81826637 | D15: -0.50946645 | E15: -0.62931408 | F15: -0.17918209
B16: Crescimento da despesa líquida observada sem MDR e sem medidas temporárias de despesa (Δ%) | C16: 8.3901564 | D16: 5.5719183 | E16: 3.6487172 | F16: 4.5803071
B17: Saldo anual (% do PIB) | C17: -1.2031697 | D17: 0.20640883 | E17: -0.52415419 | F17: 1.2094957
B18: Saldo acumulado (% do PIB) | C18: -1.2031697 | D18: -0.92896504 | E18: -1.4047238 | F18: -0.13317086
B19: Nota: considera-se como medidas temporárias de despesa o montante de empréstimos ao abrigo do Plano de Recuperação e Resiliência, o apoio à Ucrânia e o suplemento dos pensionistas. Fonte: Ministério das Finanças.

Sheet G-3.5
B9: Gráfico 3.5. Trajetória da dívida pública
B10: (pontos percentuais do PIB)
B30: Fonte: Ministério das Finanças.

Sheet Q-3.6
B9: Quadro 3.6. Dívida pública
B10: (percentagem e pontos percentuais do PIB)
C11: 2024 | D11: 2025 | E11: 2026 | F11: 2027 Orçamento
B12: Dívida pública consolidada (%) | C12: 93.029867 | D12: 89.154293 | E12: 87.540734 | F12: 84.500092
B13: Variação (p.p.) | C13: -3.8395867 | D13: -3.875574 | E13: -1.6135588 | F13: -3.0406422
B14: Efeito saldo primário | C14: -2.7788417 | D14: -2.6167302 | E14: -2.075489 | F14: -2.4938512
B15: Efeito dinâmico | C15: -4.8653686 | D15: -3.2882351 | E15: -2.5956621 | F15: -1.454351
B16: Efeito juros | C16: 2.0550675 | D16: 1.9537822 | E16: 2.0489284 | F16: 2.4129846
B17: Efeito PIB | C17: -6.9204361 | D17: -5.2420173 | E17: -4.6445905 | F17: -3.8673357
B18: Efeito deflator do PIB | C18: -4.3760788 | D18: -3.5217711 | E18: -2.6084704 | F18: -2.061242
B19: Efeito PIB real | C19: -2.4263154 | D19: -1.653897 | E19: -1.9751551 | F19: -1.7626714
B20: Ajustamento défice-dívida | C20: 3.8046236 | D20: 2.0293913 | E20: 3.0575923 | F20: 0.90168697
B21: Fonte: Ministério das Finanças.

Sheet G-3.6
B9: Gráfico 3.6. Ratings da República
B10: (pontos percentuais do PIB)
B30: Fonte: IGCP

Sheet CAP. 4
A5: 4. Situação Financeira das Administrações Públicas: Contabilidade Pública

Sheet Q-4.1
B9: Quadro 4.1. Conta das Administrações Públicas em contabilidade pública
B10: (milhões de euros)
C11: 2026 | D11: 2027 | E11: tvh (%) | F11: % do PIB
C12: Estimativa | D12: Orçamento | E12: 2027/2026 | F12: 2026 | G12: 2027
B13: Receitas Correntes | C13: 133767.69 | D13: 139785.44 | E13: 4.4986528 | F13: 41.099832 | G13: 41.057527
B14: Impostos diretos | C14: 35439.479 | D14: 36050.448 | E14: 1.7239769 | F14: 10.888703 | G14: 10.588673
B15: Impostos indiretos | C15: 40728.61 | D15: 42981.464 | E15: 5.5313792 | F15: 12.513776 | G15: 12.624438
B16: Contribuições de segurança social | C16: 37231.442 | D16: 39356.433 | E16: 5.7075162 | F16: 11.439279 | G16: 11.559701
B17: Outras receitas correntes | C17: 20354.746 | D17: 21079.419 | E17: 3.5602146 | F17: 6.2539514 | G17: 6.191409
B18: Diferenças de consolidação | C18: 13.416225 | D18: 317.67483
B19: Receitas de Capital | C19: 6536.3601 | D19: 3891.5017 | E19: -40.463781 | F19: 2.0082824 | G19: 1.1430049
B20: Receita Total | C20: 140304.05 | D20: 143676.94 | E20: 2.4039831 | F20: 43.108114 | G20: 42.200532
B21: Despesas Correntes | C21: 123762.51 | D21: 131991.31 | E21: 6.6488631 | F21: 38.025762 | G21: 38.768251
B22: Despesas com pessoal | C22: 32034.141 | D22: 33765.645 | E22: 5.4051833 | F22: 9.84242 | G22: 9.9175846
B23: Aquisição de bens e serviços | C23: 20603.235 | D23: 20216.788 | E23: -1.8756619 | F23: 6.330299 | G23: 5.9380386
B24: Juros e outros encargos | C24: 7224.5194 | D24: 8575.127 | E24: 18.694775 | F24: 2.2197178 | G24: 2.5186709
B25: Transferências correntes | C25: 59442.562 | D25: 62676.857 | E25: 5.441043 | F25: 18.263597 | G25: 18.409334
B26: Subsídios | C26: 2982.4902 | D26: 2932.1401 | E26: -1.6881917 | F26: 0.91636361 | G26: 0.8612229
B27: Outras despesas correntes | C27: 784.45676 | D27: 3822.3551 | E27: 387.26142 | F27: 0.24102263 | G27: 1.1226953
B28: Diferenças de consolidação | C28: 691.10827 | D28: 2.400138
B29: Despesas de Capital | C29: 16370.904 | D29: 12086.787 | E29: -26.169091 | F29: 5.0299244 | G29: 3.5501093
B30: Investimentos | C30: 12764.497 | D30: 10416.647 | E30: -18.393595 | F30: 3.921864 | G30: 3.0595589
B31: Transferências de capital | C31: 3402.1628 | D31: 1577.5533 | E31: -53.630869 | F31: 1.0453071 | G31: 0.46335612
B32: Outras despesas de capital | C32: 148.72878 | D32: 92.586125 | E32: -37.748345 | F32: 0.045696592 | G32: 0.02719423
B33: Diferenças de consolidação | C33: 55.514577 | D33: 0
B34: Despesa Total | C34: 140133.42 | D34: 144078.1 | E34: 2.8149484 | F34: 43.055686 | G34: 42.31836
B35: Saldo Global | C35: 170.63719 | D35: -401.1605 | F35: 0.052427904 | G35: -0.11782814
B36: Nota: Os montantes de receita e despesa apresentados encontram-se consolidados de fluxos no âmbito da Administração Central relativos a venda e aquisição de bens e serviços dentro do Programa Saúde, juros, subsídios, transferências e ativos e passivos financeiros. Fonte: Ministério das Finanças.

Sheet Q-4.2
B9: Quadro 4.2. Conta consolidada da Administração Central: contabilidade pública
B10: (milhões de euros)
B11: Designação | C11: 2025 Execução final | E11: 2026 Estimativa | G11: 2027 Orçamento | I11: Variação (%) | K11: Variação s/ PRR (%) | M11: Contributo variação 2027/2026 (em pp) | N11: Contributo variação s/ PRR 2027/2026 (em pp)
C12: Total | D12: s/ PRR | E12: Total | F12: s/ PRR | G12: Total | H12: s/ PRR | I12: 2026/ 2025 | J12: 2027/2026 | K12: 2026/ 2025 | L12: 2027/2026
B13: Receita corrente | C13: 85402.363 | D13: 84430.741 | E13: 90075.188 | F13: 87842.25 | G13: 93810.511 | H13: 93250.409 | I13: 5.4715404 | J13: 4.1468952 | K13: 4.0406004 | L13: 6.1566712 | M13: 3.9347474 | N13: 6.0213742
B14: Receita Fiscal | C14: 65587.401 | D14: 65587.401 | E14: 68632.873 | F14: 68632.873 | G14: 71530.353 | H14: 71530.353 | I14: 4.6433799 | J14: 4.2217091 | K14: 4.6433799 | L14: 4.2217091 | M14: 3.0521727 | N14: 3.2260172
B15: Impostos diretos | C15: 28831.283 | D15: 28831.283 | E15: 29672.964 | F15: 29672.964 | G15: 30423.94 | H15: 30423.94 | I15: 2.9193336 | J15: 2.5308431 | K15: 2.9193336 | L15: 2.5308431 | M15: 0.79106973 | N15: 0.8361272
B16: Impostos indiretos | C16: 36756.118 | D16: 36756.118 | E16: 38959.909 | F16: 38959.909 | G16: 41106.413 | H16: 41106.413 | I16: 5.9957116 | J16: 5.5095203 | K16: 5.9957116 | L16: 5.5095203 | M16: 2.2611029 | N16: 2.38989
B17: Contribuições Segurança Social, CGA, ADSE | C17: 4691.8649 | D17: 4691.8649 | E17: 4870.387 | F17: 4870.387 | G17: 4460.4895 | H17: 4460.4895 | I17: 3.8049278 | J17: -8.4161168 | K17: 3.8049278 | L17: -8.4161168 | M17: -0.43178132 | N17: -0.45637456
B18: Transferências correntes | C18: 4205.1117 | D18: 3257.2678 | E18: 5617.5459 | F18: 3407.9256 | G18: 4715.2811 | H18: 4156.465 | I18: 33.588506 | J18: -16.061546 | K18: 4.6252836 | L18: 21.964662 | M18: -0.9504354 | N18: 0.8334141
B19: Outras receitas correntes | C19: 10890.327 | D19: 10863.496 | E19: 10890.527 | F19: 10865.644 | G19: 12752.473 | H19: 12751.187 | I19: 0.0018415267 | J19: 17.096927 | K19: 0.01976518 | L19: 17.353256 | M19: 1.9613522 | N19: 2.0993393
B20: Diferenças de consolidação | C20: 27.658929 | D20: 30.711716 | E20: 63.854733 | F20: 65.421339 | G20: 351.91479 | H20: 351.91479
B21: Receita de capital | C21: 2542.7003 | D21: 905.29487 | E21: 4856.5387 | F21: 1973.7677 | G21: 2456.0286 | H21: 2062.5498 | I21: 90.999258 | J21: -49.428415 | K21: 118.02485 | L21: 4.4981028 | M21: -2.52867 | N21: 0.09884885
B22: Venda de bens de investimento | C22: 74.468585 | D22: 74.468585 | E22: 1259.4472 | F22: 1259.4472 | G22: 530.25732 | H22: 530.25732 | I22: - | J22: -57.897615 | K22: 1591.2464 | L22: -57.897615 | M22: -0.76812036 | N22: -0.81187068
B23: Transferências de capital | C23: 2292.7005 | D23: 692.12194 | E23: 3440.0091 | F23: 614.72841 | G23: 1874.8091 | H23: 1481.1501 | I23: 50.041801 | J23: -45.499878 | K23: -11.182066 | L23: 140.94381 | M23: -1.6487638 | N23: 0.96466274
B24: Outras receitas de capital | C24: 133.9597 | D24: 133.9597 | E24: 58.29469 | F24: 58.293975 | G24: 34.791087 | H24: 34.791087 | I24: -56.483411 | J24: -40.318601 | K24: -56.483945 | L24: -40.317869 | M24: -0.024758428 | N24: -0.026167814
B25: Diferenças de consolidação | C25: 41.57155 | D25: 4.7446478 | E25: 98.787709 | F25: 41.298122 | G25: 16.171065 | H25: 16.351365
B26: Receita efetiva | C26: 87945.063 | D26: 85336.036 | E26: 94931.726 | F26: 89816.018 | G26: 96266.54 | H26: 95312.959 | I26: 7.9443495 | J26: 1.4060774 | K26: 5.2498124 | L26: 6.120223
B27: Despesa corrente | C27: 85791.718 | D27: 85089.934 | E27: 91131.469 | F27: 89330.984 | G27: 97888.368 | H27: 97011.804 | I27: 6.2240871 | J27: 7.4144521 | K27: 4.9841964 | L27: 8.5981599 | M27: 6.5020179 | N27: 7.9212083
B28: Despesas com o pessoal | C28: 23825.109 | D28: 23750.88 | E28: 24695.782 | F28: 24620.836 | G28: 26055.991 | H28: 26052.229 | I28: 3.654432 | J28: 5.5078608 | K28: 3.6628377 | L28: 5.8137442 | M28: 1.3089 | N28: 1.4761909
B29: Aquisição de bens e serviços | C29: 14874.225 | D29: 14628.42 | E29: 15147.742 | F29: 14597.561 | G29: 15110.074 | H29: 15095.615 | I29: 1.8388696 | J29: -0.24867242 | K29: -0.2109516 | L29: 3.4118981 | M29: -0.03624735 | N29: 0.51364156
B30: Juros e outros encargos | C30: 6598.7243 | D30: 6598.6975 | E30: 7021.5421 | F30: 7021.5236 | G30: 8380.361 | H30: 8380.361 | I30: 6.4075687 | J30: 19.352143 | K30: 6.4077219 | L30: 19.352457 | M30: 1.307562 | N30: 1.401365
B31: Transferências correntes | C31: 38582.349 | D31: 38276.139 | E31: 42169.344 | F31: 41063.468 | G31: 43763.388 | H31: 42952.256 | I31: 9.2969847 | J31: 3.7801029 | K31: 7.2821603 | L31: 4.5996789 | M31: 1.5339146 | N31: 1.9479013
B32: Subsídios | C32: 1134.4564 | D32: 1093.3848 | E32: 1486.6102 | F32: 1460.8661 | G32: 991.88391 | H32: 991.88391 | I32: 31.041633 | J32: -33.278818 | K32: 33.609507 | L32: -32.103023 | M32: -0.47606442 | N32: -0.48365997
B33: Outras despesas correntes | C33: 591.80046 | D33: 567.40274 | E33: 558.6594 | F33: 516.94105 | G33: 3584.2698 | H33: 3536.8795 | I33: -5.6000398 | J33: - | K33: -8.8934521 | L33: 584.19397 | M33: 2.9114794 | N33: 3.1144538
B34: Diferenças de consolidação | C34: 185.0539 | D34: 175.01059 | E34: 51.789574 | F34: 49.78726 | G34: 2.400138 | H34: 2.580437
B35: Despesa de capital | C35: 9007.8701 | D35: 5964.6029 | E35: 12788.564 | F35: 7634.2832 | G35: 8193.4935 | H35: 7677.2463 | I35: 41.971005 | J35: -35.931089 | K35: 27.993151 | L35: 0.56276588 | M35: -4.4217367 | N35: 0.044307763
B36: Investimento | C36: 5444.7546 | D36: 4307.1211 | E36: 7207.8946 | F36: 4894.3422 | G36: 6557.8599 | H36: 6533.537 | I36: 32.382359 | J36: -9.018371 | K36: 13.633728 | L36: 33.491625 | M36: -0.62551431 | N36: 1.6904968
B37: Transferências de capital | C37: 3290.212 | D37: 1521.4973 | E37: 5435.5253 | F37: 2593.8262 | G37: 1583.3938 | H37: 1091.4695 | I37: 65.202892 | J37: -70.869536 | K37: 70.478532 | L37: -57.920486 | M37: -3.7068229 | N37: -1.5493762
B38: Outras despesas de capital | C38: 106.00957 | D38: 106.00957 | E38: 114.61705 | F38: 114.61705 | G38: 52.239883 | H38: 52.239883 | I38: 8.119527 | J38: -54.422239 | K38: 8.119527 | L38: -54.422239 | M38: -0.060024195 | N38: -0.064329388
B39: Diferenças de consolidação | C39: 166.89401 | D39: 29.974985 | E39: 30.52682 | F39: 31.497718 | G39: 0 | H39: 0
B40: Despesa efetiva | C40: 94799.588 | D40: 91054.537 | E40: 103920.03 | F40: 96965.267 | G40: 106081.86 | H40: 104689.05 | I40: 9.6207643 | J40: 2.0802812 | K40: 6.4914171 | L40: 7.9655161
B41: Saldo global | C41: -6854.5249 | D41: -5718.5009 | E41: -8988.3066 | F41: -7149.2488 | G41: -9815.322 | H41: -9376.0922
B42: em % do PIB | C42: -2.2216128 | D42: -1.8534172 | E42: -2.7616376 | F42: -2.1965911 | G42: -2.8829387 | H42: -2.7539289
B43: Por memória:
B44: Despesa primária | C44: 88200.864 | D44: 84455.84 | E44: 96898.491 | F44: 89943.743 | G44: 97701.501 | H44: 96308.69
B45: Saldo corrente | C45: -389.35503 | D45: -659.19282 | E45: -1056.2815 | F45: -1488.7334 | G45: -4077.857 | H45: -3761.3956
B46: Saldo de capital | C46: -6465.1698 | D46: -5059.308 | E46: -7932.0251 | F46: -5660.5155 | G46: -5737.4649 | H46: -5614.6965
B47: Saldo primário | C47: -255.80054 | D47: 880.19661 | E47: -1966.7645 | F47: -127.7252 | G47: -1434.961 | H47: -995.73118
B48: Nota: Os montantes de receita e despesa apresentados encontram-se consolidados de fluxos no âmbito da Administração Central relativos a venda e aquisição de bens e serviços dentro do Programa Legado da Saúde, juros, subsídios, transferências e ativos e passivos financeiros. Fonte: Ministério das Finanças.

Sheet Q-4.3
B9: Quadro 4.3. Receita da Administração Central
B10: (milhões de euros)
B11: Designação | C11: 2026 Estimativa | E11: 2027 Orçamento | G11: Variação (%) | I11: Contributo variação (em pp)
C12: Total | D12: s/ PRR | E12: Total | F12: s/ PRR | G12: Total | H12: s/ PRR | I12: Total | J12: s/ PRR
B13: Receita corrente | C13: 90075.188 | D13: 87842.25 | E13: 93810.511 | F13: 93250.409 | G13: 4.1468952 | H13: 6.1566712 | I13: 3.9347474 | J13: 6.0213742
B14: Receita Fiscal | C14: 68632.873 | D14: 68632.873 | E14: 71530.353 | F14: 71530.353 | G14: 4.2217091 | H14: 4.2217091 | I14: 3.0521727 | J14: 3.2260172
B15: Impostos diretos | C15: 29672.964 | D15: 29672.964 | E15: 30423.94 | F15: 30423.94 | G15: 2.5308431 | H15: 2.5308431 | I15: 0.79106973 | J15: 0.8361272
B16: Impostos indiretos | C16: 38959.909 | D16: 38959.909 | E16: 41106.413 | F16: 41106.413 | G16: 5.5095203 | H16: 5.5095203 | I16: 2.2611029 | J16: 2.38989
B17: Receita corrente não fiscal: | C17: 21442.315 | D17: 19209.378 | E17: 22280.158 | F17: 21720.056 | G17: 3.9074297 | H17: 13.070066 | I17: 0.88257469 | J17: 2.795357
B18: Comparticipações para a CGA e outras | C18: 4870.387 | D18: 4870.387 | E18: 4460.4895 | F18: 4460.4895 | G18: -8.4161168 | H18: -8.4161168 | I18: -0.43178132 | J18: -0.45637456
B19: Taxas, multas e outras penalidades | C19: 3794.2307 | D19: 3794.2307 | E19: 4025.7009 | F19: 4025.7009 | G19: 6.1005828 | H19: 6.1005828 | I19: 0.24382806 | J19: 0.25771593
B20: Rendimentos da propriedade | C20: 1313.4489 | D20: 1313.4489 | E20: 1143.1525 | F20: 1143.1525 | G20: -12.965587 | H20: -12.965587 | I20: -0.17938825 | J20: -0.18960578
B21: Transferências correntes | C21: 5617.5459 | D21: 3407.9256 | E21: 4715.2811 | F21: 4156.465 | G21: -16.061546 | H21: 21.964662 | I21: -0.9504354 | J21: 0.8334141
B22: Administrações Públicas | C22: 2406.1845 | D22: 2405.5168 | E22: 2567.5751 | F22: 2567.5751 | G22: 6.7073267 | H22: 6.7369422 | I22: 0.17000708 | J22: 0.1804336
B23: Outras | C23: 3211.3614 | D23: 1002.4088 | E23: 2147.706 | F23: 1588.8899 | G23: -33.121634 | H23: 58.507174 | I23: -1.1204425 | J23: 0.65298049
B24: Venda de bens e serviços correntes | C24: 3993.1667 | D24: 3993.1006 | E24: 6162.5018 | F24: 6162.5018 | G24: 54.326184 | H24: 54.328738 | I24: 2.2851529 | J24: 2.4153834
B25: Outras receitas correntes | C25: 1789.6811 | D25: 1764.8634 | E25: 1421.1177 | F25: 1419.8314 | G25: -20.593802 | H25: -19.550069 | I25: -0.38824047 | J25: -0.38415423
B26: Diferenças de consolidação | C26: 63.854733 | D26: 65.421339 | E26: 351.91479 | F26: 351.91479 | G26: 451.11779 | H26: 437.9205
B27: Receita de capital | C27: 4856.5387 | D27: 1973.7677 | E27: 2456.0286 | F27: 2062.5498 | G27: -49.428415 | H27: 4.4981028 | I27: -2.52867 | J27: 0.09884885
B28: Venda de bens de investimento | C28: 1259.4472 | D28: 1259.4472 | E28: 530.25732 | F28: 530.25732 | G28: -57.897615 | H28: -57.897615 | I28: -0.76812036 | J28: -0.81187068
B29: Transferências de capital | C29: 3440.0091 | D29: 614.72841 | E29: 1874.8091 | F29: 1481.1501 | G29: -45.499878 | H29: 140.94381 | I29: -1.6487638 | J29: 0.96466274
B30: Administrações Públicas | C30: 19.458961 | D30: 17.662163 | E30: 13.840521 | F30: 13.840521 | G30: -28.873278 | H30: -21.637452 | I30: -0.0059184007 | J30: -0.0042549671
B31: Outras | C31: 3420.5501 | D31: 597.06624 | E31: 1860.9686 | F31: 1467.3095 | G31: -45.594464 | H31: 145.75322 | I31: -1.6428454 | J31: 0.96891771
B32: Outras receitas de capital | C32: 58.29469 | D32: 58.293975 | E32: 34.791087 | F32: 34.791087 | G32: -40.318601 | H32: -40.317869 | I32: -0.024758428 | J32: -0.026167814
B33: Diferenças de consolidação | C33: 98.787709 | D33: 41.298122 | E33: 16.171065 | F33: 16.351365 | G33: -83.630489 | H33: -60.406517
B34: Receita efetiva não fiscal | C34: 26298.854 | D34: 21183.145 | E34: 24736.187 | F34: 23782.606 | G34: -5.9419575 | H34: 12.271362 | I34: -1.6460953 | J34: 2.8942058
B35: Receita efetiva | C35: 94931.726 | D35: 89816.018 | E35: 96266.54 | F35: 95312.959 | G35: 1.4060774 | H35: 6.120223
B36: Nota: Os montantes apresentados encontram-se consolidados de fluxos no âmbito da Administração Central relativos a juros, transferências, subsídios e, dentro do Programa Legado da Saúde, venda de bens e serviços correntes. Fonte: Ministério das Finanças.

Sheet Q-4.4
B9: Quadro 4.4. Receita fiscal do Estado
B10: (milhões de euros)
C11: 2026 | D11: 2027 | E11: Variação (%)
B12: Impostos Diretos | C12: 29672.964 | D12: 30423.94 | E12: 2.5308431
B13: - IRS | C13: 19706 | D13: 20385.1 | E13: 3.4461585
B14: - IRC | C14: 9704 | D14: 9604.5 | E14: -1.0253504
B15: - Outros (inclui CESE+AIMI+CSB+CST) | C15: 262.96414 | D15: 434.3403 | E15: 65.170921
B16: Impostos Indiretos | C16: 38135.494 | D16: 40247.952 | E16: 5.5393473
B17: - ISP | C17: 3609.5415 | D17: 3795.6 | E17: 5.1546307
B18: - IVA | C18: 28757 | D18: 30283.2 | E18: 5.3072295
B19: - Impostos sobre veículos | C19: 464.32226 | D19: 486.15 | E19: 4.7009885
B20: - Imposto sobre o tabaco | C20: 1725.1317 | D20: 1864.3 | E20: 8.0671099
B21: - IABA | C21: 364.91746 | D21: 392.3 | E21: 7.503764
B22: - Imposto do selo | C22: 2342.5334 | D22: 2485 | E22: 6.0817317
B23: - Imposto único de circulação | C23: 587.74823 | D23: 610.7 | E23: 3.9050345
... B25: Receita Fiscal do Estado | C25: 67808.459 | D25: 70671.892 | E25: 4.2228266
B26: Fonte: Ministério das Finanças.

Sheet G-4.1
B9: Gráfico 4.1. Despesa fiscal do Estado
B10: (milhões de euros; percentagem do PIB)
B34: Notas: (e) execução provisória; (p) previsão. Fonte: Autoridade Tributária e Aduaneira.

Sheet Q-4.5
B9: Quadro 4.5. Despesa fiscal do Estado por imposto
B10: (milhões de euros; variação homóloga em percentagem)
B11: Imposto | C11: Despesa fiscal em valor absoluto (milhões de euros) | F11: Em percentagem do total | G11: Variação homóloga (%) | I11: Contributo para a variação homóloga
C12: 2025 | D12: 2026(e) | E12: 2027(p) | F12: 2027(p) | G12: 2026(e)/2025 | H12: 2027(p)/2026(e) | I12: 2027(p)
B13: Impostos sobre o rendimento | C13: 5887.5923 | D13: 5855.9987 | E13: 5779.141 | F13: 25.268627 | G13: -0.53661248 | H13: -1.3124617 | I13: -0.34535142
B14: Imposto sobre o Rendimento das Pessoas Singulares (IRS) | C14: 4130.3431 | D14: 4117.91 | E14: 4090.7427 | F14: 17.886301 | G14: -0.30101937 | H14: -0.6597337 | I14: -0.12207287
B15: Imposto sobre o Rendimento das Pessoas Coletivas (IRC) | C15: 1757.2492 | D15: 1738.0887 | E15: 1688.3982 | F15: 7.3823265 | G15: -1.0903646 | H15: -2.8589163 | I15: -0.22327855
B16: Impostos sobre a produção e importações | C16: 15794.13 | D16: 16398.939 | E16: 17091.674 | F16: 74.731373 | G16: 3.8293269 | H16: 4.2242708 | I16: 3.1127276
B17: Imposto sobre Veículos (ISV) | C17: 459.39208 | D17: 479.04305 | E17: 489.73751 | F17: 2.1413208 | G17: 4.2776047 | H17: 2.2324632 | I17: 0.048054326
B18: Imposto sobre o Valor Acrescentado (IVA) | C18: 13003.852 | D18: 13527.973 | E18: 14155.758 | F18: 61.894419 | G18: 4.0305027 | H18: 4.6406454 | I18: 2.8208808
B19: Imposto sobre os Produtos Petrolíferos e Energéticos (ISP) | C19: 435.20271 | D19: 434.10299 | E19: 441.83002 | F19: 1.9318508 | G19: -0.2526915 | H19: 1.78 | I19: 0.034720535
B20: Imposto sobre o Álcool e as Bebidas Alcoólicas (IABA) | C20: 68.488515 | D20: 74.005888 | E20: 75.323193 | F20: 0.32934197 | G20: 8.0559102 | H20: 1.78 | I20: 0.0059191576
B21: Imposto sobre o Tabaco (IT) | C21: 0 | D21: 0 | E21: 0 | F21: 0 | G21: - | H21: - | I21: 0
B22: Imposto do Selo (IS) | C22: 1811.6407 | D22: 1867.7782 | E22: 1912.6048 | F22: 8.3626439 | G22: 3.0987078 | H22: 2.4 | I22: 0.20142351
B23: Imposto Único de Circulação (IUC) | C23: 15.553353 | D23: 16.035507 | E23: 16.42036 | F23: 0.071796127 | G23: 3.1 | H23: 2.4 | I23: 0.001729289
B24: Despesa fiscal | C24: 21681.722 | D24: 22254.937 | E24: 22870.815 | F24: 100 | G24: 2.643772 | H24: 2.7673762 | I24: 2.7673762
B25: Notas: (e) execução provisória; (p) previsão. Fonte: Autoridade Tributária e Aduaneira.

Sheet Q-4.6
B9: Quadro 4.6. Despesa fiscal do Estado por função
B10: (milhões de euros; variação homóloga em percentagem)
B11: Função | D11: Despesa fiscalem valor absoluto (milhões de euros) | G11: Variação homóloga (%)
D12: 2025 | E12: 2026(e) | F12: 2027(p) | G12: 2026(e)/2025 | H12: 2027(p)/2026(e)
B13: CF.01 - Serviços gerais da Administração Pública | D13: 0 | E13: 0 | F13: 0 | G13: - | H13: -
B14: CF.02 – Defesa | D14: 114.54203 | E14: 152.89228 | F14: 159.99113 | G14: 33.481376 | H14: 4.6430395
B15: CF.03 - Segurança e ordem pública | D15: 10.433599 | E15: 11.998638 | F15: 12.555453 | G15: 15 | H15: 4.6406454
B16: CF.04 – Assuntos económicos | C16: CF.04.A – Investimento | D16: 1143.2297 | E16: 1187.6546 | F16: 1237.554 | G16: 3.8859105 | H16: 4.2015061
C17: CF.04.B – Poupança | D17: 113.74084 | E17: 119.76647 | F17: 125.39266 | G17: 5.2976863 | H17: 4.6976316
C18: CF.04.C - Reestruturação empresarial | D18: 15.960904 | E18: 16.115002 | F18: 16.238 | G18: 0.96546968 | H18: 0.76325301
C19: CF.04.D - Criação de emprego | D19: 0 | E19: 0 | F19: 0 | G19: - | H19: -
C20: CF.04.E - Investigação e desenv. empresarial | D20: 367.52658 | E20: 324.07129 | F20: 252.03355 | G20: -11.823715 | H20: -22.228977
C21: CF.04.F - Turismo | D21: 0.31957991 | E21: 0 | F21: 0 | G21: -100 | H21: -
C22: CF.04.G - Promoção regional | D22: 36.397461 | E22: 35.962082 | F22: 35.701954 | G22: -1.1961806 | H22: -0.72333946
C23: CF.04.H - Indústria | D23: 771.96816 | E23: 783.50998 | F23: 791.98901 | G23: 1.4951161 | H23: 1.0821858
C24: CF.04.Z - Outros | D24: 17522.727 | E24: 17965.608 | F24: 18532.165 | G24: 2.5274658 | H24: 3.1535599
C25: Total | D25: 19971.871 | E25: 20432.688 | F25: 20991.074 | G25: 2.3073308 | H25: 2.7328072
B26: CF.05 - Proteção do ambiente | D26: 221.54898 | E26: 231.0426 | F26: 241.19225 | G26: 4.2851124 | H26: 4.3929754
B27: CF.06 - Serviços de habitação e desenvolvimento coletivo | D27: 283.26434 | E27: 291.99346 | F27: 297.44692 | G27: 3.0816167 | H27: 1.8676653
B28: CF.07 – Saúde | D28: 55.986848 | E28: 57.180369 | F28: 58.218063 | G28: 2.1317891 | H28: 1.8147725
